BEGIN:VCALENDAR
VERSION:2.0
PRODID:-//Boutique Case-Départ - ECPv6.15.20//NONSGML v1.0//EN
CALSCALE:GREGORIAN
METHOD:PUBLISH
X-WR-CALNAME:Boutique Case-Départ
X-ORIGINAL-URL:https://boutique-casedepart.fr
X-WR-CALDESC:Évènements pour Boutique Case-Départ
REFRESH-INTERVAL;VALUE=DURATION:PT1H
X-Robots-Tag:noindex
X-PUBLISHED-TTL:PT1H
BEGIN:VTIMEZONE
TZID:UTC
BEGIN:STANDARD
TZOFFSETFROM:+0000
TZOFFSETTO:+0000
TZNAME:UTC
DTSTART:20230101T000000
END:STANDARD
END:VTIMEZONE
BEGIN:VEVENT
DTSTART;TZID=UTC:20241123T100000
DTEND;TZID=UTC:20241123T123000
DTSTAMP:20260421T084630
CREATED:20241120T153204Z
LAST-MODIFIED:20241120T153213Z
UID:7438-1732356000-1732365000@boutique-casedepart.fr
SUMMARY:DRAFT LORCANA - LA MER AZURITE
DESCRIPTION:Booster Draft – Les joueuses et joueurs reçoivent un minimum de quatre boosters chacun pour se passer les cartes entre eux\, à partir desquelles ils construiront un deck de 40 cartes minimums en utilisant n’importe quel nombre d’encres différentes (au lieu de seulement deux encres). 
URL:https://boutique-casedepart.fr/event/draft-lorcana-la-mer-azurite
LOCATION:boutique case départ\, 279 Rue Charles de Gaulle\, Flins-sur-Seine\, Yvelines\, 78410\, France
ATTACH;FMTTYPE=image/png:https://boutique-casedepart.fr/wp-content/uploads/2024/11/Debarque-2.png
ORGANIZER;CN="Case D%C3%A9part":MAILTO:boutiquecasedepart@gmail.com
END:VEVENT
END:VCALENDAR