BEGIN:VCALENDAR
VERSION:2.0
PRODID:-//Boutique Case-Départ - ECPv6.15.20//NONSGML v1.0//EN
CALSCALE:GREGORIAN
METHOD:PUBLISH
X-ORIGINAL-URL:https://boutique-casedepart.fr
X-WR-CALDESC:Évènements pour Boutique Case-Départ
REFRESH-INTERVAL;VALUE=DURATION:PT1H
X-Robots-Tag:noindex
X-PUBLISHED-TTL:PT1H
BEGIN:VTIMEZONE
TZID:UTC
BEGIN:STANDARD
TZOFFSETFROM:+0000
TZOFFSETTO:+0000
TZNAME:UTC
DTSTART:20230101T000000
END:STANDARD
END:VTIMEZONE
BEGIN:VEVENT
DTSTART;TZID=UTC:20241228T100000
DTEND;TZID=UTC:20241228T123000
DTSTAMP:20260421T143643
CREATED:20241204T163805Z
LAST-MODIFIED:20241204T163818Z
UID:7550-1735380000-1735389000@boutique-casedepart.fr
SUMMARY:Session de Jeu et Découverte de Lorcana
DESCRIPTION:🎲 Session de Jeu et Découverte de Lorcana 🎲 \n\n\n\nNous avons le plaisir de vous inviter à une session de jeu et découverte autour du jeu Lorcana\, ce samedi matin à partir de 10h ! \n\n\n\nLes règles du TCG Disney Lorcana sont assez simples à appréhender et permettent de rapidement commencer le jeu pour les débutants tout en offrant des mécaniques de Gameplay plus poussées pour les joueurs avancés. \n\n\n\nQue vous soyez débutant ou joueur confirmé\, venez découvrir l’univers de Lorcana\, apprendre les règles et partager un moment convivial avec d’autres passionnés.
URL:https://boutique-casedepart.fr/event/session-de-jeu-et-decouverte-de-lorcana-4
LOCATION:boutique case départ\, 279 Rue Charles de Gaulle\, Flins-sur-Seine\, Yvelines\, 78410\, France
ATTACH;FMTTYPE=image/png:https://boutique-casedepart.fr/wp-content/uploads/2024/10/Debarque-1-1.png
ORGANIZER;CN="Case D%C3%A9part":MAILTO:boutiquecasedepart@gmail.com
END:VEVENT
END:VCALENDAR