BEGIN:VCALENDAR
VERSION:2.0
PRODID:-//Boutique Case-Départ - ECPv6.15.20//NONSGML v1.0//EN
CALSCALE:GREGORIAN
METHOD:PUBLISH
X-WR-CALNAME:Boutique Case-Départ
X-ORIGINAL-URL:https://boutique-casedepart.fr
X-WR-CALDESC:Évènements pour Boutique Case-Départ
REFRESH-INTERVAL;VALUE=DURATION:PT1H
X-Robots-Tag:noindex
X-PUBLISHED-TTL:PT1H
BEGIN:VTIMEZONE
TZID:UTC
BEGIN:STANDARD
TZOFFSETFROM:+0000
TZOFFSETTO:+0000
TZNAME:UTC
DTSTART:20240101T000000
END:STANDARD
END:VTIMEZONE
BEGIN:VEVENT
DTSTART;TZID=UTC:20250118T100000
DTEND;TZID=UTC:20250118T120000
DTSTAMP:20260421T113851
CREATED:20241017T164733Z
LAST-MODIFIED:20250107T144835Z
UID:7230-1737194400-1737201600@boutique-casedepart.fr
SUMMARY:Session de Jeu et Découverte de Lorcana
DESCRIPTION:🎲 Session de Jeu et Découverte de Lorcana 🎲 \n\n\n\nNous avons le plaisir de vous inviter à une session de jeu et découverte autour du jeu Lorcana\, ce samedi matin à partir de 10h ! \n\n\n\nLes règles du TCG Disney Lorcana sont assez simples à appréhender et permettent de rapidement commencer le jeu pour les débutants tout en offrant des mécaniques de Gameplay plus poussées pour les joueurs avancés. \n\n\n\nQue vous soyez débutant ou joueur confirmé\, venez découvrir l’univers de Lorcana\, apprendre les règles et partager un moment convivial avec d’autres passionnés.
URL:https://boutique-casedepart.fr/event/session-de-jeu-et-decouverte-de-lorcana-2
LOCATION:Case Départ\, 279 rue Charles De Gaulle\, Flins-sur-Seine\, 78410
ATTACH;FMTTYPE=image/png:https://boutique-casedepart.fr/wp-content/uploads/2024/10/Debarque-1-1.png
ORGANIZER;CN="Case D%C3%A9part":MAILTO:boutiquecasedepart@gmail.com
END:VEVENT
BEGIN:VEVENT
DTSTART;TZID=UTC:20250118T150000
DTEND;TZID=UTC:20250118T180000
DTSTAMP:20260421T113851
CREATED:20241204T161433Z
LAST-MODIFIED:20250107T144432Z
UID:7535-1737212400-1737223200@boutique-casedepart.fr
SUMMARY:Tournoi Altered – Construit
DESCRIPTION:Ce vent de frais sur le monde du JCC propose à deux joueurs de s’opposer dans une course haletante vers la victoire dans un univers baigné de mythes et de légendes. \n\n\n\nNous jouerons en format standard\, chaque joueur amenant son propre deck de 40 cartes\, héros inclus. \n\n\n\nNous jouerons 3 à 4 rondes en fonction du nombre de joueurs et des horaires et tous les participants repartiront avec 1 booster de jeu minimum en récompense\, et potentiellement davantage en fonction de leur classement. \n\n\n\nLes places étant limitées veuillez s’il vous plaît vous inscrire à l’avance.
URL:https://boutique-casedepart.fr/event/tournoi-altered-construit-3
LOCATION:boutique case départ\, 279 Rue Charles de Gaulle\, Flins-sur-Seine\, Yvelines\, 78410\, France
ATTACH;FMTTYPE=image/webp:https://boutique-casedepart.fr/wp-content/uploads/2024/12/27.webp
ORGANIZER;CN="Case D%C3%A9part":MAILTO:boutiquecasedepart@gmail.com
END:VEVENT
END:VCALENDAR