BEGIN:VCALENDAR
VERSION:2.0
PRODID:-//Boutique Case-Départ - ECPv6.15.20//NONSGML v1.0//EN
CALSCALE:GREGORIAN
METHOD:PUBLISH
X-WR-CALNAME:Boutique Case-Départ
X-ORIGINAL-URL:https://boutique-casedepart.fr
X-WR-CALDESC:Évènements pour Boutique Case-Départ
REFRESH-INTERVAL;VALUE=DURATION:PT1H
X-Robots-Tag:noindex
X-PUBLISHED-TTL:PT1H
BEGIN:VTIMEZONE
TZID:UTC
BEGIN:STANDARD
TZOFFSETFROM:+0000
TZOFFSETTO:+0000
TZNAME:UTC
DTSTART:20240101T000000
END:STANDARD
END:VTIMEZONE
BEGIN:VEVENT
DTSTART;TZID=UTC:20250125T193000
DTEND;TZID=UTC:20250125T233000
DTSTAMP:20260421T093808
CREATED:20250107T142936Z
LAST-MODIFIED:20250107T142946Z
UID:7703-1737833400-1737847800@boutique-casedepart.fr
SUMMARY: Avant-Première Épreuve du Froid - ALTERED
DESCRIPTION:Préparez-vous à braver les vents glacés et à affronter les défis de l’hiver avec « L’Épreuve du Froid »\, la nouvelle extension du TCG Altered \n\n\n\n❄️ Avant-Première Altered Set 2 : L’Épreuve du Froid ❄️ \n\n\n\nPréparez-vous à braver les vents glacés et à affronter les défis de l’hiver avec « L’Épreuve du Froid »\, la nouvelle extension du TCG Altered ! Cette avant-première vous plonge dans un monde où la résilience et la stratégie seront vos meilleurs alliés. Que vous soyez un joueur aguerri ou un nouveau venu\, cet événement est une occasion unique de découvrir les cartes de l’extension tout en vous amusant dans une ambiance conviviale. \n\n\n\nComment se déroule l’avant-première ?\n\n\n\n🔐 Format : Paquet Scellé \n\n\n\n\nChaque joueur recevra 7 boosters scellés de l’extension L’Épreuve du Froid.\n\n\n\nAvec les cartes que vous ouvrirez\, vous devrez construire un deck de 30 cartes en respectant ces règles :\n\nVous pouvez utiliser des cartes de 3 factions maximum pour votre deck.\n\n\n\nPas besoin d’apporter de cartes supplémentaires : tout est fait sur place !\n\n\n\n\n\nUne fois votre deck prêt\, il est temps de passer à l’action !\n\n\n\n\n⚔️ Tournoi : Rondes Suisses \n\n\n\n\nLe tournoi se joue en ronde suisse\, avec des matchs en BO1 (un match gagnant).\n\n\n\nChaque ronde dure 45 minutes\, où chaque joueur devra prouver sa valeur dans des duels stratégiques intenses.\n\n\n\nAdaptabilité et réflexion rapide seront essentielles pour dominer la compétition !\n\n\n\n\nRécompenses :\n\n\n\n\nTous les participants repartiront avec les cartes ouvertes lors de l’événement\, de quoi enrichir votre collection et booster vos futurs decks !\n\n\n\nDes surprises exclusives et des lots spéciaux attendent les joueurs les plus performants.\n\n\n\n\n🌟 Pourquoi participer ? \n\n\n\nParce que rien ne vaut une soirée épique chez Case Départ pour affiner vos stratégies et plonger dans l’univers unique d’Altered ! \n\n\n\nPour découvrir en exclusivité les mécaniques et cartes de cette nouvelle extension glaciale. \n\n\n\nPour affronter d’autres passionnés dans une ambiance chaleureuse et festive. \n\n\n\n📢 Les places sont limitées à 20 joueurs\, alors ne tardez pas à réserver votre place. Qui sait ? Peut-être serez-vous le champion des neiges lors de cette aventure inoubliable !
URL:https://boutique-casedepart.fr/event/avant-premiere-epreuve-du-froid-altered
LOCATION:boutique case départ\, 279 Rue Charles de Gaulle\, Flins-sur-Seine\, Yvelines\, 78410\, France
ATTACH;FMTTYPE=image/jpeg:https://boutique-casedepart.fr/wp-content/uploads/2025/01/18h15-2401-avant-premiere-epreuve-du-froid-altered.jpg
ORGANIZER;CN="Case D%C3%A9part":MAILTO:boutiquecasedepart@gmail.com
END:VEVENT
END:VCALENDAR